BEGIN:VCALENDAR
VERSION:2.0
PRODID:-//G360 - ECPv6.15.15//NONSGML v1.0//EN
CALSCALE:GREGORIAN
METHOD:PUBLISH
X-WR-CALNAME:G360
X-ORIGINAL-URL:https://g360.lk
X-WR-CALDESC:Events for G360
REFRESH-INTERVAL;VALUE=DURATION:PT1H
X-Robots-Tag:noindex
X-PUBLISHED-TTL:PT1H
BEGIN:VTIMEZONE
TZID:Asia/Colombo
BEGIN:STANDARD
TZOFFSETFROM:+0530
TZOFFSETTO:+0530
TZNAME:+0530
DTSTART:20210101T000000
END:STANDARD
END:VTIMEZONE
BEGIN:VEVENT
DTSTART;TZID=Asia/Colombo:20221029T070000
DTEND;TZID=Asia/Colombo:20221029T110000
DTSTAMP:20260422T060905
CREATED:20221021T121944Z
LAST-MODIFIED:20221023T115012Z
UID:10000068-1667026800-1667041200@g360.lk
SUMMARY:Bodyline Fit & Fun Run
DESCRIPTION:
URL:https://g360.lk/event/bodyline-fit-fun-run/
CATEGORIES:Duathlon
ATTACH;FMTTYPE=image/jpeg:https://g360.lk/wp-content/uploads/2022/10/A6DAFEC4-79A2-41A8-9D66-0BF49072350B.jpeg
END:VEVENT
BEGIN:VEVENT
DTSTART;TZID=Asia/Colombo:20220925T060000
DTEND;TZID=Asia/Colombo:20220925T103000
DTSTAMP:20260422T060905
CREATED:20220820T124558Z
LAST-MODIFIED:20221019T203021Z
UID:10000067-1664085600-1664101800@g360.lk
SUMMARY:G360 Family Duathlon – Mini (Individual/ Relay)
DESCRIPTION:G360 Family Duathlon – Mini category is a great way to promote physical activity and help develop a healthy sense of competition besides getting kids and adults out of the house and away from their electronic devices. Parents\, grandparents and siblings can encourage each other and can bond whilst practicing for the event. This will help bring neighbors together giving them a greater sense of being part of the community. \n\n\n\nChallenge yourself to go solo or team up with family and friends to take part in the Mini category… \n\n\n\nA unique kids’ category for kids aged 5 – 12 years allows a family member to accompany the child in the run / walk and bike course which will be the highlight of the day. \n\n\n\nThis event will promote families coming together and community standing together harnessing resilience\, endurance\, and challenging oneself in finding strength. \n\n\n\n\n\n\n\nEvent\nCategories\nFirst Run\nCycling\nSecond Run\n\n\n\n\nIndividual\nOpen Male\n1km\n3km\n1km\n\n\nOpen Female\n\n\nRelay\nMixed\n\n\nIndividual*\nKids (ages 5-12)\n500m\n1km\n500m\n\n\n\n*allows a family member to accompany the kid in the run and the bike course.\n\n\n\n\n\n\nBib Collection / Athlete briefing 24th September Saturday at NCC from 8.00 am to 3.00 pm Bike check-in 25th September Sunday at Independence SquareEvent day check-in 25th September Sunday at Independence Square \n\n\n\n\n\n\n\n\n\nPlease read through the following before purchasing tickets\n\n\n\n\nParticipant Waiver and Release of Liability for Teens & Kids: Click here to read\nParticipant Waiver and Release of Liability: Click here to read\nTransfers and Withdrawal Policies: Click here to read\nRules and Regulations: Click here to read\nPrivacy Policy: Click here to read\n\n\n\n\n  \n\n\n\n\n\n\n\nPlease gather the following information from your team members before proceeding to Register.Name\, NIC/BC/Passport number\, date of birth\, age\, email address\, phone number\, name and phone number of an emergency contact and medical history. \n\n\n\nPlease use the plus and minus buttons (- 0 +) below to select the number of tickets and click on the “Register Now!” button to register. \n\n\n\n\n \n\n\n\n \n\n\n\n\n\n\n\n\nG360 Family Duathlon – Mini category is a great way to promote physical activity and help develop a healthy sense of competition besides getting kids and adults out of the house and away from their electronic devices. Parents\, grandparents and siblings can encourage each other and can bond whilst practicing for the event. This will help bring neighbors together giving them a greater sense of being part of the community. \n\n\n\nChallenge yourself to go solo or team up with family and friends to take part in the Mini category… \n\n\n\nA unique kids’ category for kids aged 5 – 12 years allows a family member to accompany the child in the run / walk and bike course which will be the highlight of the day. \n\n\n\nThis event will promote families coming together and community standing together harnessing resilience\, endurance\, and challenging oneself in finding strength. \n\n\n\n\n\n\n\nEvent\nCategories\nFirst Run\nCycling\nSecond Run\n\n\n\n\nIndividual\nOpen Male\n1km\n3km\n1km\n\n\nOpen Female\n\n\nRelay\nMixed\n\n\nIndividual*\nKids (ages 5-12)\n500m\n1km\n500m\n\n\n\n*allows a family member to accompany the kid in the run and the bike course.\n\n\n\n\n\n\nBib Collection / Athlete briefing 24th September Saturday at NCC from 8.00 am to 3.00 pm Bike check-in 25th September Sunday at Independence SquareEvent day check-in 25th September Sunday at Independence Square \n\n\n\n\n\n\n\n\n\nPlease read through the following before purchasing tickets\n\n\n\n\nParticipant Waiver and Release of Liability for Teens & Kids: Click here to read\nParticipant Waiver and Release of Liability: Click here to read\nTransfers and Withdrawal Policies: Click here to read\nRules and Regulations: Click here to read\nPrivacy Policy: Click here to read\n\n\n\n\n  \n\n\n\n\n\n\n\nPlease gather the following information from your team members before proceeding to Register.Name\, NIC/BC/Passport number\, date of birth\, age\, email address\, phone number\, name and phone number of an emergency contact and medical history. \n\n\n\nPlease use the plus and minus buttons (- 0 +) below to select the number of tickets and click on the “Register Now!” button to register. \n\n\n\n\n \n\n\n\n 
URL:https://g360.lk/event/g360-family-duathlon-mini/
LOCATION:Independence Square\, Port City\, Colombo\, Sri Lanka
CATEGORIES:Duathlon
ATTACH;FMTTYPE=image/jpeg:https://g360.lk/wp-content/uploads/2022/08/WhatsApp-Image-2022-09-08-at-12.12.46-AM.jpeg
END:VEVENT
BEGIN:VEVENT
DTSTART;TZID=Asia/Colombo:20220925T060000
DTEND;TZID=Asia/Colombo:20220925T060000
DTSTAMP:20260422T060905
CREATED:20220820T102432Z
LAST-MODIFIED:20220922T153012Z
UID:10000066-1664085600-1664085600@g360.lk
SUMMARY:G360 Family Duathlon – Intermediate (Individual/ Relay)
DESCRIPTION:Families have the opportunity to discover their own unique physical talents. Taking part in regular physical activity leading up to the event helps families to improve health.  Not everyone can be a superstar athlete\, but just being part of an event such as this can give children as well as adults an important sense of belonging. Meeting new people and making friends helps children and adults build confidence. \n\n\n\nChallenge yourself to go solo or team up with family and friends to take part in the intermediate category of the Duathlon – RUN BIKE RUN \n\n\n\nThis event will promote families coming together and community standing together harnessing resilience\, endurance\, and challenging oneself in finding strength. \n\n\n\nEventCategoriesFirst RunCyclingSecond RunIndividualOpen Male2km5km2kmOpen FemaleRelayMixed\n\n\n\n\nBib Collection / Athlete briefing 24th September Saturday at NCC from 8.00 am to 3.00 pm Bike check-in 25th September Sunday at Independence SquareEvent day check-in 25th September Sunday at Independence Square \n\n\n\n\n\n\n\n\n\nPlease read through the following before purchasing tickets\n\n\n\nParticipant Waiver and Release of Liability for Teens & Kids: Click here to readParticipant Waiver and Release of Liability: Click here to readTransfers and Withdrawal Policies: Click here to readRules and Regulations: Click here to readPrivacy Policy: Click here to read\n\n\n\n\n\n\n\nPlease gather the following information from your team members before proceeding to Register.Name\, NIC/BC/Passport number\, date of birth\, age\, email address\, phone number\, name and phone number of an emergency contact and medical history. \n\n\n\nPlease use the plus and minus buttons (- 0 +) below to select the number of tickets and click on the “Register Now!” button to register.
URL:https://g360.lk/event/g360-family-duathlon-intermediate-individual-relay/
LOCATION:Independence Square\, Port City\, Colombo\, Sri Lanka
CATEGORIES:Duathlon
ATTACH;FMTTYPE=image/jpeg:https://g360.lk/wp-content/uploads/2022/08/WhatsApp-Image-2022-09-08-at-12.12.45-AM.jpeg
END:VEVENT
BEGIN:VEVENT
DTSTART;TZID=Asia/Colombo:20220925T060000
DTEND;TZID=Asia/Colombo:20220925T060000
DTSTAMP:20260422T060905
CREATED:20220820T070614Z
LAST-MODIFIED:20220920T042151Z
UID:10000065-1664085600-1664085600@g360.lk
SUMMARY:G360 Family Duathlon – Elite (Individual/ Relay)
DESCRIPTION:G360 Duathlon – Elite category is suited to anyone who enjoys biking and running and\, much like triathlon\, caters for all age groups. It is the perfect endurance sport for those who are less inclined to swim. \n\n\n\nThe duathlon removes the swim and replaces it with another run. \n\n\n\nHere’s your opportunity to compete in the Elite category either as an individual or as a team. \n\n\n\nEventCategoriesFirst RunCyclingSecond RunIndividualOpen Male5km20km2.5kmOpen Female RelayMixed\n\n\n\n\nBib Collection / Athlete briefing 24th September Saturday at NCC from 8.00 am to 3.00 pm Bike check-in 25th September Sunday at Independence SquareEvent day check-in 25th September Sunday at Independence Square \n\n\n\n\n\n\n\n\n\nPlease read through the following before purchasing tickets\n\n\n\nParticipant Waiver and Release of Liability for Teens & Kids: Click here to readParticipant Waiver and Release of Liability: Click here to readTransfers and Withdrawal Policies: Click here to readRules and Regulations: Click here to readPrivacy Policy: Click here to read\n\n\n\n\n\n\n\nPlease gather the following information from your team members before proceeding to Register.Name\, NIC/BC/Passport number\, date of birth\, age\, email address\, phone number\, name and phone number of an emergency contact and medical history. \n\n\n\nPlease use the plus and minus buttons (- 0 +) below to select the number of tickets and click on the “Register Now!” button to register.
URL:https://g360.lk/event/g360-family-duathlon-elite-individual-relay/
LOCATION:Independence Square\, Port City\, Colombo\, Sri Lanka
CATEGORIES:Duathlon
ATTACH;FMTTYPE=image/jpeg:https://g360.lk/wp-content/uploads/2022/08/WhatsApp-Image-2022-09-08-at-12.12.45-AM-1.jpeg
END:VEVENT
END:VCALENDAR